{
  "title": "CRS84 for the World",
  "id": "WorldCRS84Quad",
  "crs": "http://www.opengis.net/def/crs/OGC/1.3/CRS84",
  "wellKnownScaleSet": "http://www.opengis.net/def/wkss/OGC/1.0/GoogleCRS84Quad",
  "uri": "http://www.opengis.net/def/tilematrixset/OGC/1.0/WorldCRS84Quad",
  "tileMatrices": [
    {
      "id": "0",
      "tileWidth": 256,
      "tileHeight": 256,
      "matrixWidth": 2,
      "matrixHeight": 1,
      "scaleDenominator": 279541132.014358,
      "cellSize": 0.703125,
      "pointOfOrigin": [
        -180,
        90
      ],
      "cornerOfOrigin": "topLeft"
    },
    {
      "id": "1",
      "tileWidth": 256,
      "tileHeight": 256,
      "matrixWidth": 4,
      "matrixHeight": 2,
      "scaleDenominator": 139770566.007179,
      "cellSize": 0.3515625,
      "pointOfOrigin": [
        -180,
        90
      ],
      "cornerOfOrigin": "topLeft"
    },
    {
      "id": "2",
      "tileWidth": 256,
      "tileHeight": 256,
      "matrixWidth": 8,
      "matrixHeight": 4,
      "scaleDenominator": 69885283.0035897,
      "cellSize": 0.17578125,
      "pointOfOrigin": [
        -180,
        90
      ],
      "cornerOfOrigin": "topLeft"
    },
    {
      "id": "3",
      "tileWidth": 256,
      "tileHeight": 256,
      "matrixWidth": 16,
      "matrixHeight": 8,
      "scaleDenominator": 34942641.5017948,
      "cellSize": 0.087890625,
      "pointOfOrigin": [
        -180,
        90
      ],
      "cornerOfOrigin": "topLeft"
    },
    {
      "id": "4",
      "tileWidth": 256,
      "tileHeight": 256,
      "matrixWidth": 32,
      "matrixHeight": 16,
      "scaleDenominator": 17471320.7508974,
      "cellSize": 0.0439453125,
      "pointOfOrigin": [
        -180,
        90
      ],
      "cornerOfOrigin": "topLeft"
    },
    {
      "id": "5",
      "tileWidth": 256,
      "tileHeight": 256,
      "matrixWidth": 64,
      "matrixHeight": 32,
      "scaleDenominator": 8735660.37544871,
      "cellSize": 0.02197265625,
      "pointOfOrigin": [
        -180,
        90
      ],
      "cornerOfOrigin": "topLeft"
    },
    {
      "id": "6",
      "tileWidth": 256,
      "tileHeight": 256,
      "matrixWidth": 128,
      "matrixHeight": 64,
      "scaleDenominator": 4367830.18772435,
      "cellSize": 0.010986328125,
      "pointOfOrigin": [
        -180,
        90
      ],
      "cornerOfOrigin": "topLeft"
    },
    {
      "id": "7",
      "tileWidth": 256,
      "tileHeight": 256,
      "matrixWidth": 256,
      "matrixHeight": 128,
      "scaleDenominator": 2183915.09386217,
      "cellSize": 0.0054931640625,
      "pointOfOrigin": [
        -180,
        90
      ],
      "cornerOfOrigin": "topLeft"
    },
    {
      "id": "8",
      "tileWidth": 256,
      "tileHeight": 256,
      "matrixWidth": 512,
      "matrixHeight": 256,
      "scaleDenominator": 1091957.54693108,
      "cellSize": 0.00274658203125,
      "pointOfOrigin": [
        -180,
        90
      ],
      "cornerOfOrigin": "topLeft"
    },
    {
      "id": "9",
      "tileWidth": 256,
      "tileHeight": 256,
      "matrixWidth": 1024,
      "matrixHeight": 512,
      "scaleDenominator": 545978.773465544,
      "cellSize": 0.001373291015625,
      "pointOfOrigin": [
        -180,
        90
      ],
      "cornerOfOrigin": "topLeft"
    },
    {
      "id": "10",
      "tileWidth": 256,
      "tileHeight": 256,
      "matrixWidth": 2048,
      "matrixHeight": 1024,
      "scaleDenominator": 272989.386732772,
      "cellSize": 0.0006866455078125,
      "pointOfOrigin": [
        -180,
        90
      ],
      "cornerOfOrigin": "topLeft"
    },
    {
      "id": "11",
      "tileWidth": 256,
      "tileHeight": 256,
      "matrixWidth": 4096,
      "matrixHeight": 2048,
      "scaleDenominator": 136494.693366386,
      "cellSize": 0.00034332275390625,
      "pointOfOrigin": [
        -180,
        90
      ],
      "cornerOfOrigin": "topLeft"
    },
    {
      "id": "12",
      "tileWidth": 256,
      "tileHeight": 256,
      "matrixWidth": 8192,
      "matrixHeight": 4096,
      "scaleDenominator": 68247.346683193,
      "cellSize": 0.000171661376953125,
      "pointOfOrigin": [
        -180,
        90
      ],
      "cornerOfOrigin": "topLeft"
    },
    {
      "id": "13",
      "tileWidth": 256,
      "tileHeight": 256,
      "matrixWidth": 16384,
      "matrixHeight": 8192,
      "scaleDenominator": 34123.6733415964,
      "cellSize": 0.0000858306884765625,
      "pointOfOrigin": [
        -180,
        90
      ],
      "cornerOfOrigin": "topLeft"
    },
    {
      "id": "14",
      "tileWidth": 256,
      "tileHeight": 256,
      "matrixWidth": 32768,
      "matrixHeight": 16384,
      "scaleDenominator": 17061.8366707982,
      "cellSize": 0.0000429153442382812,
      "pointOfOrigin": [
        -180,
        90
      ],
      "cornerOfOrigin": "topLeft"
    },
    {
      "id": "15",
      "tileWidth": 256,
      "tileHeight": 256,
      "matrixWidth": 65536,
      "matrixHeight": 32768,
      "scaleDenominator": 8530.91833539913,
      "cellSize": 0.0000214576721191406,
      "pointOfOrigin": [
        -180,
        90
      ],
      "cornerOfOrigin": "topLeft"
    },
    {
      "id": "16",
      "tileWidth": 256,
      "tileHeight": 256,
      "matrixWidth": 131072,
      "matrixHeight": 65536,
      "scaleDenominator": 4265.45916769956,
      "cellSize": 0.0000107288360595703,
      "pointOfOrigin": [
        -180,
        90
      ],
      "cornerOfOrigin": "topLeft"
    },
    {
      "id": "17",
      "tileWidth": 256,
      "tileHeight": 256,
      "matrixWidth": 262144,
      "matrixHeight": 131072,
      "scaleDenominator": 2132.72958384978,
      "cellSize": 0.00000536441802978515,
      "pointOfOrigin": [
        -180,
        90
      ],
      "cornerOfOrigin": "topLeft"
    },
    {
      "id": "18",
      "tileWidth": 256,
      "tileHeight": 256,
      "matrixWidth": 524288,
      "matrixHeight": 262144,
      "scaleDenominator": 1066.36479192489,
      "cellSize": 0.00000268220901489258,
      "pointOfOrigin": [
        -180,
        90
      ],
      "cornerOfOrigin": "topLeft"
    },
    {
      "id": "19",
      "tileWidth": 256,
      "tileHeight": 256,
      "matrixWidth": 1048576,
      "matrixHeight": 524288,
      "scaleDenominator": 533.182395962445,
      "cellSize": 0.00000134110450744629,
      "pointOfOrigin": [
        -180,
        90
      ],
      "cornerOfOrigin": "topLeft"
    },
    {
      "id": "20",
      "tileWidth": 256,
      "tileHeight": 256,
      "matrixWidth": 2097152,
      "matrixHeight": 1048576,
      "scaleDenominator": 266.591197981222,
      "cellSize": 6.7055225372314E-7,
      "pointOfOrigin": [
        -180,
        90
      ],
      "cornerOfOrigin": "topLeft"
    },
    {
      "id": "21",
      "tileWidth": 256,
      "tileHeight": 256,
      "matrixWidth": 4194304,
      "matrixHeight": 2097152,
      "scaleDenominator": 133.295598990611,
      "cellSize": 3.3527612686157E-7,
      "pointOfOrigin": [
        -180,
        90
      ],
      "cornerOfOrigin": "topLeft"
    },
    {
      "id": "22",
      "tileWidth": 256,
      "tileHeight": 256,
      "matrixWidth": 8388608,
      "matrixHeight": 4194304,
      "scaleDenominator": 66.6477994953056,
      "cellSize": 1.6763806343079E-7,
      "pointOfOrigin": [
        -180,
        90
      ],
      "cornerOfOrigin": "topLeft"
    },
    {
      "id": "23",
      "tileWidth": 256,
      "tileHeight": 256,
      "matrixWidth": 16777216,
      "matrixHeight": 8388608,
      "scaleDenominator": 33.3238997476528,
      "cellSize": 8.381903171539E-8,
      "pointOfOrigin": [
        -180,
        90
      ],
      "cornerOfOrigin": "topLeft"
    }
  ],
  "orderedAxes": [
    "Lon",
    "Lat"
  ],
  "links": [
    {
      "rel": "alternate",
      "type": "text/html",
      "title": "Dieses Dokument als HTML",
      "href": "https://api.ra.no/KulturminnerKulturmiljoer/tileMatrixSets/WorldCRS84Quad?f=html"
    },
    {
      "rel": "self",
      "type": "application/json",
      "title": "Dieses Dokument",
      "href": "https://api.ra.no/KulturminnerKulturmiljoer/tileMatrixSets/WorldCRS84Quad?f=json"
    }
  ]
}
