{
  "title": "Tiling scheme using ETRS89/UTM32N covering Europe",
  "id": "EU_25832",
  "crs": "http://www.opengis.net/def/crs/EPSG/0/25832",
  "boundingBox": {
    "lowerLeft": [
      -3803165.98427,
      2544186.72572835
    ],
    "upperRight": [
      3710899.64427598,
      8805908.08285
    ],
    "crs": "http://www.opengis.net/def/crs/EPSG/0/25832"
  },
  "tileMatrices": [
    {
      "id": "0",
      "tileWidth": 256,
      "tileHeight": 256,
      "matrixWidth": 6,
      "matrixHeight": 5,
      "scaleDenominator": 17471320.7508974,
      "cellSize": 4891.96981025127,
      "pointOfOrigin": [
        -3803165.98427,
        8805908.08285
      ],
      "cornerOfOrigin": "topLeft"
    },
    {
      "id": "1",
      "tileWidth": 256,
      "tileHeight": 256,
      "matrixWidth": 12,
      "matrixHeight": 10,
      "scaleDenominator": 8735660.3754487,
      "cellSize": 2445.98490512564,
      "pointOfOrigin": [
        -3803165.98427,
        8805908.08285
      ],
      "cornerOfOrigin": "topLeft"
    },
    {
      "id": "2",
      "tileWidth": 256,
      "tileHeight": 256,
      "matrixWidth": 24,
      "matrixHeight": 20,
      "scaleDenominator": 4367830.18772435,
      "cellSize": 1222.99245256282,
      "pointOfOrigin": [
        -3803165.98427,
        8805908.08285
      ],
      "cornerOfOrigin": "topLeft"
    },
    {
      "id": "3",
      "tileWidth": 256,
      "tileHeight": 256,
      "matrixWidth": 48,
      "matrixHeight": 40,
      "scaleDenominator": 2183915.09386218,
      "cellSize": 611.49622628141,
      "pointOfOrigin": [
        -3803165.98427,
        8805908.08285
      ],
      "cornerOfOrigin": "topLeft"
    },
    {
      "id": "4",
      "tileWidth": 256,
      "tileHeight": 256,
      "matrixWidth": 96,
      "matrixHeight": 80,
      "scaleDenominator": 1091957.54693109,
      "cellSize": 305.748113140705,
      "pointOfOrigin": [
        -3803165.98427,
        8805908.08285
      ],
      "cornerOfOrigin": "topLeft"
    },
    {
      "id": "5",
      "tileWidth": 256,
      "tileHeight": 256,
      "matrixWidth": 192,
      "matrixHeight": 160,
      "scaleDenominator": 545978.773465544,
      "cellSize": 152.874056570352,
      "pointOfOrigin": [
        -3803165.98427,
        8805908.08285
      ],
      "cornerOfOrigin": "topLeft"
    },
    {
      "id": "6",
      "tileWidth": 256,
      "tileHeight": 256,
      "matrixWidth": 384,
      "matrixHeight": 320,
      "scaleDenominator": 272989.386732772,
      "cellSize": 76.4370282851762,
      "pointOfOrigin": [
        -3803165.98427,
        8805908.08285
      ],
      "cornerOfOrigin": "topLeft"
    },
    {
      "id": "7",
      "tileWidth": 256,
      "tileHeight": 256,
      "matrixWidth": 768,
      "matrixHeight": 640,
      "scaleDenominator": 136494.693366386,
      "cellSize": 38.2185141425881,
      "pointOfOrigin": [
        -3803165.98427,
        8805908.08285
      ],
      "cornerOfOrigin": "topLeft"
    },
    {
      "id": "8",
      "tileWidth": 256,
      "tileHeight": 256,
      "matrixWidth": 1536,
      "matrixHeight": 1280,
      "scaleDenominator": 68247.346683193,
      "cellSize": 19.109257071294,
      "pointOfOrigin": [
        -3803165.98427,
        8805908.08285
      ],
      "cornerOfOrigin": "topLeft"
    },
    {
      "id": "9",
      "tileWidth": 256,
      "tileHeight": 256,
      "matrixWidth": 3072,
      "matrixHeight": 2560,
      "scaleDenominator": 34123.6733415965,
      "cellSize": 9.55462853564702,
      "pointOfOrigin": [
        -3803165.98427,
        8805908.08285
      ],
      "cornerOfOrigin": "topLeft"
    },
    {
      "id": "10",
      "tileWidth": 256,
      "tileHeight": 256,
      "matrixWidth": 6144,
      "matrixHeight": 5120,
      "scaleDenominator": 17061.8366707982,
      "cellSize": 4.7773142678235,
      "pointOfOrigin": [
        -3803165.98427,
        8805908.08285
      ],
      "cornerOfOrigin": "topLeft"
    },
    {
      "id": "11",
      "tileWidth": 256,
      "tileHeight": 256,
      "matrixWidth": 12288,
      "matrixHeight": 10240,
      "scaleDenominator": 8530.91833539912,
      "cellSize": 2.38865713391175,
      "pointOfOrigin": [
        -3803165.98427,
        8805908.08285
      ],
      "cornerOfOrigin": "topLeft"
    },
    {
      "id": "12",
      "tileWidth": 256,
      "tileHeight": 256,
      "matrixWidth": 24576,
      "matrixHeight": 20480,
      "scaleDenominator": 4265.45916769956,
      "cellSize": 1.19432856695588,
      "pointOfOrigin": [
        -3803165.98427,
        8805908.08285
      ],
      "cornerOfOrigin": "topLeft"
    },
    {
      "id": "13",
      "tileWidth": 256,
      "tileHeight": 256,
      "matrixWidth": 49152,
      "matrixHeight": 40960,
      "scaleDenominator": 2132.72958384978,
      "cellSize": 0.597164283477938,
      "pointOfOrigin": [
        -3803165.98427,
        8805908.08285
      ],
      "cornerOfOrigin": "topLeft"
    },
    {
      "id": "14",
      "tileWidth": 256,
      "tileHeight": 256,
      "matrixWidth": 98304,
      "matrixHeight": 81920,
      "scaleDenominator": 1066.36479192489,
      "cellSize": 0.298582141738969,
      "pointOfOrigin": [
        -3803165.98427,
        8805908.08285
      ],
      "cornerOfOrigin": "topLeft"
    }
  ],
  "orderedAxes": [
    "E",
    "N"
  ],
  "links": [
    {
      "rel": "alternate",
      "type": "text/html",
      "title": "Dieses Dokument als HTML",
      "href": "https://api.ra.no/brannvern/tileMatrixSets/EU_25832?f=html"
    },
    {
      "rel": "self",
      "type": "application/json",
      "title": "Dieses Dokument",
      "href": "https://api.ra.no/brannvern/tileMatrixSets/EU_25832?f=json"
    }
  ]
}
